BEGIN:VCALENDAR
VERSION:2.0
PRODID:-//JD Stillwater - ECPv6.15.20//NONSGML v1.0//EN
CALSCALE:GREGORIAN
METHOD:PUBLISH
X-ORIGINAL-URL:https://www.jdstillwater.earth
X-WR-CALDESC:Events for JD Stillwater
REFRESH-INTERVAL;VALUE=DURATION:PT1H
X-Robots-Tag:noindex
X-PUBLISHED-TTL:PT1H
BEGIN:VTIMEZONE
TZID:America/New_York
BEGIN:DAYLIGHT
TZOFFSETFROM:-0500
TZOFFSETTO:-0400
TZNAME:EDT
DTSTART:20240310T070000
END:DAYLIGHT
BEGIN:STANDARD
TZOFFSETFROM:-0400
TZOFFSETTO:-0500
TZNAME:EST
DTSTART:20241103T060000
END:STANDARD
BEGIN:DAYLIGHT
TZOFFSETFROM:-0500
TZOFFSETTO:-0400
TZNAME:EDT
DTSTART:20250309T070000
END:DAYLIGHT
BEGIN:STANDARD
TZOFFSETFROM:-0400
TZOFFSETTO:-0500
TZNAME:EST
DTSTART:20251102T060000
END:STANDARD
BEGIN:DAYLIGHT
TZOFFSETFROM:-0500
TZOFFSETTO:-0400
TZNAME:EDT
DTSTART:20260308T070000
END:DAYLIGHT
BEGIN:STANDARD
TZOFFSETFROM:-0400
TZOFFSETTO:-0500
TZNAME:EST
DTSTART:20261101T060000
END:STANDARD
END:VTIMEZONE
BEGIN:VEVENT
DTSTART;TZID=America/New_York:20250216T100000
DTEND;TZID=America/New_York:20250216T110000
DTSTAMP:20260418T231900
CREATED:20241113T204535Z
LAST-MODIFIED:20241113T204630Z
UID:10000088-1739700000-1739703600@www.jdstillwater.earth
SUMMARY:UUCLancaster\, PA - Nature's Scripture: The Interfaith Promise of Science
DESCRIPTION:Underlying the human world of strife and separation is an oft-neglected landscape of commonality between faiths: the natural world. At precisely the time when our religious and political divisions threaten the existence of life on Earth\, science offers a sweeping interfaith vista filled with revelations and insights as spiritually meaningful as ancient scriptures. Read as “scripture\,” science offers a common text for all the world’s faiths. Stream links here.
URL:https://www.jdstillwater.earth/event/uuclancaster-pa-natures-scripture-the-interfaith-promise-of-science/
LOCATION:UU Church of Lancaster\, PA\, 538 W. Chestnut St.\, Lancaster\, Pennsylvania\, 17603\, United States
CATEGORIES:Church Service,JD In Person,Local,Streamed
ATTACH;FMTTYPE=image/jpeg:https://www.jdstillwater.earth/wp-content/uploads/2023/09/PoWR-thumbnail-logo.jpg
END:VEVENT
END:VCALENDAR